Workbook

Sheet Munka1
A1: 1
A2: 2
A3: 3
A4: 4
A5: 5
A6: 6
A7: 7
A8: 8
A9: 9
A10: 10
A11: 11
A12: 12
... A139: 139

Sheet 3.1.2 pont
A2: Iskolatej szállítási szerződés 6/1. sz. melléklete
A4: Ssz. | B4: Intézmény név | C4: OM azonosító | D4: Feladat ellátási hely kód | E4: 2019/2020. tanév
E5: Termék megnevezése | F5: Termék-kategória | G5: Termék kiszere-lés | H5: Szállítani tervezett mennyiség (liter/kg) | I5: Bruttó egységár (Ft/liter, Ft/kg)
A6: =Munka1!A1 -> 1 | B6: =Munka1!B1 -> 0 | C6: =Munka1!C1 -> 0 | D6: =Munka1!D1 -> 0 | E6: Félzsíros tej 0,2l. 2,8% | F6: I/a. | G6: 0,2 liter
E7: Félzsíros ízesített tej(kakaó)0,2l.1,9% | F7: I/b. | G7: 0,2 liter
E8: Gyümölcsleves/Ízesített joghurt 125g | F8: I/c. | G8: 0,125 kg
E9: Ömlesztett sajt 25g | F9: III. | G9: 2*0,025 kg
E10: Natúr joghurt 175g | F10: I/c. | G10: 0,175 kg
A11: 2 | B11: =Munka1!B2 -> 0 | C11: =Munka1!C2 -> 0 | D11: =Munka1!D2 -> 0 | E11: Félzsíros tej 0,2l. 2,8% | F11: I/a. | G11: 0,2 liter
E12: Félzsíros ízesített tej(kakaó)0,2l.1,9% | F12: I/b. | G12: 0,2 liter
E13: Gyümölcsleves/Ízesített joghurt 125g | F13: I/c. | G13: 0,125 kg
E14: Ömlesztett sajt 25g | F14: III. | G14: 2*0,025 kg
E15: Natúr joghurt 175g | F15: I/c. | G15: 0,175 kg
A16: 3 | B16: =Munka1!B3 -> 0 | C16: =Munka1!C3 -> 0 | D16: =Munka1!D3 -> 0 | E16: Félzsíros tej 0,2l. 2,8% | F16: I/a. | G16: 0,2 liter
E17: Félzsíros ízesített tej(kakaó)0,2l.1,9% | F17: I/b. | G17: 0,2 liter
E18: Gyümölcsleves/Ízesített joghurt 125g | F18: I/c. | G18: 0,125 kg
E19: Ömlesztett sajt 25g | F19: III. | G19: 2*0,025 kg
E20: Natúr joghurt 175g | F20: I/c. | G20: 0,175 kg
A21: 4 | B21: =Munka1!B4 -> 0 | C21: =Munka1!C4 -> 0 | D21: =Munka1!D4 -> 0 | E21: Félzsíros tej 0,2l. 2,8% | F21: I/a. | G21: 0,2 liter
E22: Félzsíros ízesített tej(kakaó)0,2l.1,9% | F22: I/b. | G22: 0,2 liter
E23: Gyümölcsleves/Ízesített joghurt 125g | F23: I/c. | G23: 0,125 kg
E24: Ömlesztett sajt 25g | F24: III. | G24: 2*0,025 kg
E25: Natúr joghurt 175g | F25: I/c. | G25: 0,175 kg
A26: 5 | B26: =Munka1!B5 -> 0 | C26: =Munka1!C5 -> 0 | D26: =Munka1!D5 -> 0 | E26: Félzsíros tej 0,2l. 2,8% | F26: I/a. | G26: 0,2 liter
E27: Félzsíros ízesített tej(kakaó)0,2l.1,9% | F27: I/b. | G27: 0,2 liter
E28: Gyümölcsleves/Ízesített joghurt 125g | F28: I/c. | G28: 0,125 kg
E29: Ömlesztett sajt 25g | F29: III. | G29: 2*0,025 kg
E30: Natúr joghurt 175g | F30: I/c. | G30: 0,175 kg
A31: 6 | B31: =Munka1!B6 -> 0 | C31: =Munka1!C6 -> 0 | D31: =Munka1!D6 -> 0 | E31: Félzsíros tej 0,2l. 2,8% | F31: I/a. | G31: 0,2 liter
E32: Félzsíros ízesített tej(kakaó)0,2l.1,9% | F32: I/b. | G32: 0,2 liter
E33: Gyümölcsleves/Ízesített joghurt 125g | F33: I/c. | G33: 0,125 kg
E34: Ömlesztett sajt 25g | F34: III. | G34: 2*0,025 kg
E35: Natúr joghurt 175g | F35: I/c. | G35: 0,175 kg
A36: 7 | B36: =Munka1!B7 -> 0 | C36: =Munka1!C7 -> 0 | D36: =Munka1!D7 -> 0 | E36: Félzsíros tej 0,2l. 2,8% | F36: I/a. | G36: 0,2 liter
E37: Félzsíros ízesített tej(kakaó)0,2l.1,9% | F37: I/b. | G37: 0,2 liter
E38: Gyümölcsleves/Ízesített joghurt 125g | F38: I/c. | G38: 0,125 kg
E39: Ömlesztett sajt 25g | F39: III. | G39: 2*0,025 kg
E40: Natúr joghurt 175g | F40: I/c. | G40: 0,175 kg
A46: Iskolatej szállítási szerződés 6/2. sz. melléklete
A48: Ssz. | B48: Intézmény név | C48: OM azonosító | D48: Feladat ellátási hely kód | E48: 2019/2020. tanév
E49: Termék megnevezése | F49: Termék-kategória | G49: Termék kiszere-lés | H49: Szállítani tervezett mennyiség (liter/kg) | I49: Bruttó egységár (Ft/liter, Ft/kg)
A50: 8 | B50: =Munka1!B8 -> 0 | C50: =Munka1!C8 -> 0 | D50: =Munka1!D8 -> 0 | E50: Félzsíros tej 0,2l. 2,8% | F50: I/a. | G50: 0,2 liter
E51: Félzsíros ízesített tej(kakaó)0,2l.1,9% | F51: I/b. | G51: 0,2 liter
E52: Gyümölcsleves/Ízesített joghurt 125g | F52: I/c. | G52: 0,125 kg
E53: Ömlesztett sajt 25g | F53: III. | G53: 2*0,025 kg
E54: Natúr joghurt 175g | F54: I/c. | G54: 0,175 kg
A55: 9 | B55: =Munka1!B9 -> 0 | C55: =Munka1!C9 -> 0 | D55: =Munka1!D9 -> 0 | E55: Félzsíros tej 0,2l. 2,8% | F55: I/a. | G55: 0,2 liter
E56: Félzsíros ízesített tej(kakaó)0,2l.1,9% | F56: I/b. | G56: 0,2 liter
E57: Gyümölcsleves/Ízesített joghurt 125g | F57: I/c. | G57: 0,125 kg
E58: Ömlesztett sajt 25g | F58: III. | G58: 2*0,025 kg
E59: Natúr joghurt 175g | F59: I/c. | G59: 0,175 kg
A60: 10 | B60: =Munka1!B10 -> 0 | C60: =Munka1!C10 -> 0 | D60: =Munka1!D10 -> 0 | E60: Félzsíros tej 0,2l. 2,8% | F60: I/a. | G60: 0,2 liter
E61: Félzsíros ízesített tej(kakaó)0,2l.1,9% | F61: I/b. | G61: 0,2 liter
E62: Gyümölcsleves/Ízesített joghurt 125g | F62: I/c. | G62: 0,125 kg
E63: Ömlesztett sajt 25g | F63: III. | G63: 2*0,025 kg
E64: Natúr joghurt 175g | F64: I/c. | G64: 0,175 kg
A65: 11 | B65: =Munka1!B11 -> 0 | C65: =Munka1!C11 -> 0 | D65: =Munka1!D11 -> 0 | E65: Félzsíros tej 0,2l. 2,8% | F65: I/a. | G65: 0,2 liter
E66: Félzsíros ízesített tej(kakaó)0,2l.1,9% | F66: I/b. | G66: 0,2 liter
E67: Gyümölcsleves/Ízesített joghurt 125g | F67: I/c. | G67: 0,125 kg
E68: Ömlesztett sajt 25g | F68: III. | G68: 2*0,025 kg
E69: Natúr joghurt 175g | F69: I/c. | G69: 0,175 kg
A70: 12 | B70: =Munka1!B12 -> 0 | C70: =Munka1!C12 -> 0 | D70: =Munka1!D12 -> 0 | E70: Félzsíros tej 0,2l. 2,8% | F70: I/a. | G70: 0,2 liter
E71: Félzsíros ízesített tej(kakaó)0,2l.1,9% | F71: I/b. | G71: 0,2 liter
E72: Gyümölcsleves/Ízesített joghurt 125g | F72: I/c. | G72: 0,125 kg
E73: Ömlesztett sajt 25g | F73: III. | G73: 2*0,025 kg
E74: Natúr joghurt 175g | F74: I/c. | G74: 0,175 kg
A75: 13 | B75: =Munka1!B13 -> 0 | C75: =Munka1!C13 -> 0 | D75: =Munka1!D13 -> 0 | E75: Félzsíros tej 0,2l. 2,8% | F75: I/a. | G75: 0,2 liter
E76: Félzsíros ízesített tej(kakaó)0,2l.1,9% | F76: I/b. | G76: 0,2 liter
E77: Gyümölcsleves/Ízesített joghurt 125g | F77: I/c. | G77: 0,125 kg
E78: Ömlesztett sajt 25g | F78: III. | G78: 2*0,025 kg
E79: Natúr joghurt 175g | F79: I/c. | G79: 0,175 kg
A80: 14 | B80: =Munka1!B14 -> 0 | C80: =Munka1!C14 -> 0 | D80: =Munka1!D14 -> 0 | E80: Félzsíros tej 0,2l. 2,8% | F80: I/a. | G80: 0,2 liter
E81: Félzsíros ízesített tej(kakaó)0,2l.1,9% | F81: I/b. | G81: 0,2 liter
E82: Gyümölcsleves/Ízesített joghurt 125g | F82: I/c. | G82: 0,125 kg
E83: Ömlesztett sajt 25g | F83: III. | G83: 2*0,025 kg
E84: Natúr joghurt 175g | F84: I/c. | G84: 0,175 kg
A91: Iskolatej szállítási szerződés 6/3. sz. melléklete
A93: Ssz. | B93: Intézmény név | C93: OM azonosító | D93: Feladat ellátási hely kód | E93: 2019/2020. tanév
E94: Termék megnevezése | F94: Termék-kategória | G94: Termék kiszere-lés | H94: Szállítani tervezett mennyiség (liter/kg) | I94: Bruttó egységár (Ft/liter, Ft/kg)
A95: 15 | B95: =Munka1!B15 -> 0 | C95: =Munka1!C15 -> 0 | D95: =Munka1!D15 -> 0 | E95: Félzsíros tej 0,2l. 2,8% | F95: I/a. | G95: 0,2 liter
E96: Félzsíros ízesített tej(kakaó)0,2l.1,9% | F96: I/b. | G96: 0,2 liter
E97: Gyümölcsleves/Ízesített joghurt 125g | F97: I/c. | G97: 0,125 kg
E98: Ömlesztett sajt 25g | F98: III. | G98: 2*0,025 kg
E99: Natúr joghurt 175g | F99: I/c. | G99: 0,175 kg
A100: 16 | B100: =Munka1!B16 -> 0 | C100: =Munka1!C16 -> 0 | D100: =Munka1!D16 -> 0 | E100: Félzsíros tej 0,2l. 2,8% | F100: I/a. | G100: 0,2 liter
E101: Félzsíros ízesített tej(kakaó)0,2l.1,9% | F101: I/b. | G101: 0,2 liter
E102: Gyümölcsleves/Ízesített joghurt 125g | F102: I/c. | G102: 0,125 kg
E103: Ömlesztett sajt 25g | F103: III. | G103: 2*0,025 kg
E104: Natúr joghurt 175g | F104: I/c. | G104: 0,175 kg
A105: 17 | B105: =Munka1!B17 -> 0 | C105: =Munka1!C17 -> 0 | D105: =Munka1!D17 -> 0 | E105: Félzsíros tej 0,2l. 2,8% | F105: I/a. | G105: 0,2 liter
E106: Félzsíros ízesített tej(kakaó)0,2l.1,9% | F106: I/b. | G106: 0,2 liter
E107: Gyümölcsleves/Ízesített joghurt 125g | F107: I/c. | G107: 0,125 kg
E108: Ömlesztett sajt 25g | F108: III. | G108: 2*0,025 kg
E109: Natúr joghurt 175g | F109: I/c. | G109: 0,175 kg
A110: 18 | B110: =Munka1!B18 -> 0 | C110: =Munka1!C18 -> 0 | D110: =Munka1!D18 -> 0 | E110: Félzsíros tej 0,2l. 2,8% | F110: I/a. | G110: 0,2 liter
E111: Félzsíros ízesített tej(kakaó)0,2l.1,9% | F111: I/b. | G111: 0,2 liter
E112: Gyümölcsleves/Ízesített joghurt 125g | F112: I/c. | G112: 0,125 kg
E113: Ömlesztett sajt 25g | F113: III. | G113: 2*0,025 kg
E114: Natúr joghurt 175g | F114: I/c. | G114: 0,175 kg
A115: 19 | B115: =Munka1!B19 -> 0 | C115: =Munka1!C19 -> 0 | D115: =Munka1!D19 -> 0 | E115: Félzsíros tej 0,2l. 2,8% | F115: I/a. | G115: 0,2 liter
...
