Workbook

Sheet Munka1
A1: 1
A2: 2
A3: 3
A4: 4
A5: 5
A6: 6
A7: 7
A8: 8
A9: 9
A10: 10
A11: 11
A12: 12
... A139: 139

Sheet 3.1.2 pont
A2: Iskolatej szállítási szerződés 6/1. sz. melléklete
A4: Ssz. | B4: Intézmény név | C4: OM azonosító | D4: Feladat ellátási hely kód | E4: 2019/2020. tanév
E5: Termék megnevezése | F5: Termék-kategória | G5: Termék kiszere-lés | H5: Szállítani tervezett mennyiség (liter/kg) | I5: Bruttó egységár (Ft/liter, Ft/kg)
A6: =Munka1!A1 -> 1 | B6: =Munka1!B1 -> 0 | C6: =Munka1!C1 -> 0 | D6: =Munka1!D1 -> 0 | E6: Félzsíros tej 0,2l. 2,8% | F6: I/a. | G6: 0,2 liter
E7: Félzsíros ízesített tej(kakaó)0,2l.1,9% | F7: I/b. | G7: 0,2 liter
E8: Gyümölcsleves/Ízesített joghurt 125g | F8: I/c. | G8: 0,125 kg
E9: Ömlesztett sajt 25g | F9: III. | G9: 2*0,025 kg
E10: Natúr joghurt 175g | F10: I/c. | G10: 0,175 kg
A11: 2 | B11: =Munka1!B2 -> 0 | C11: =Munka1!C2 -> 0 | D11: =Munka1!D2 -> 0 | E11: Félzsíros tej 0,2l. 2,8% | F11: I/a. | G11: 0,2 liter
E12: Félzsíros ízesített tej(kakaó)0,2l.1,9% | F12: I/b. | G12: 0,2 liter
E13: Gyümölcsleves/Ízesített joghurt 125g | F13: I/c. | G13: 0,125 kg
E14: Ömlesztett sajt 25g | F14: III. | G14: 2*0,025 kg
E15: Natúr joghurt 175g | F15: I/c. | G15: 0,175 kg
A16: 3 | B16: =Munka1!B3 -> 0 | C16: =Munka1!C3 -> 0 | D16: =Munka1!D3 -> 0 | E16: Félzsíros tej 0,2l. 2,8% | F16: I/a. | G16: 0,2 liter
E17: Félzsíros ízesített tej(kakaó)0,2l.1,9% | F17: I/b. | G17: 0,2 liter
E18: Gyümölcsleves/Ízesített joghurt 125g | F18: I/c. | G18: 0,125 kg
E19: Ömlesztett sajt 25g | F19: III. | G19: 2*0,025 kg
E20: Natúr joghurt 175g | F20: I/c. | G20: 0,175 kg
A21: 4 | B21: =Munka1!B4 -> 0 | C21: =Munka1!C4 -> 0 | D21: =Munka1!D4 -> 0 | E21: Félzsíros tej 0,2l. 2,8% | F21: I/a. | G21: 0,2 liter
E22: Félzsíros ízesített tej(kakaó)0,2l.1,9% | F22: I/b. | G22: 0,2 liter
E23: Gyümölcsleves/Ízesített joghurt 125g | F23: I/c. | G23: 0,125 kg
E24: Ömlesztett sajt 25g | F24: III. | G24: 2*0,025 kg
E25: Natúr joghurt 175g | F25: I/c. | G25: 0,175 kg
A26: 5 | B26: =Munka1!B5 -> 0 | C26: =Munka1!C5 -> 0 | D26: =Munka1!D5 -> 0 | E26: Félzsíros tej 0,2l. 2,8% | F26: I/a. | G26: 0,2 liter
E27: Félzsíros ízesített tej(kakaó)0,2l.1,9% | F27: I/b. | G27: 0,2 liter
E28: Gyümölcsleves/Ízesített joghurt 125g | F28: I/c. | G28: 0,125 kg
E29: Ömlesztett sajt 25g | F29: III. | G29: 2*0,025 kg
E30: Natúr joghurt 175g | F30: I/c. | G30: 0,175 kg
A31: 6 | B31: =Munka1!B6 -> 0 | C31: =Munka1!C6 -> 0 | D31: =Munka1!D6 -> 0 | E31: Félzsíros tej 0,2l. 2,8% | F31: I/a. | G31: 0,2 liter
E32: Félzsíros ízesített tej(kakaó)0,2l.1,9% | F32: I/b. | G32: 0,2 liter
E33: Gyümölcsleves/Ízesített joghurt 125g | F33: I/c. | G33: 0,125 kg
E34: Ömlesztett sajt 25g | F34: III. | G34: 2*0,025 kg
E35: Natúr joghurt 175g | F35: I/c. | G35: 0,175 kg
A36: 7 | B36: =Munka1!B7 -> 0 | C36: =Munka1!C7 -> 0 | D36: =Munka1!D7 -> 0 | E36: Félzsíros tej 0,2l. 2,8% | F36: I/a. | G36: 0,2 liter
E37: Félzsíros ízesített tej(kakaó)0,2l.1,9% | F37: I/b. | G37: 0,2 liter
E38: Gyümölcsleves/Ízesített joghurt 125g | F38: I/c. | G38: 0,125 kg
E39: Ömlesztett sajt 25g | F39: III. | G39: 2*0,025 kg
E40: Natúr joghurt 175g | F40: I/c. | G40: 0,175 kg
A46: Iskolatej szállítási szerződés 6/2. sz. melléklete
A48: Ssz. | B48: Intézmény név | C48: OM azonosító | D48: Feladat ellátási hely kód | E48: 2019/2020. tanév
...
